BEGIN:VCALENDAR
VERSION:2.0
PRODID:-//eventon.com NONSGML v1.0//EN
CALSCALE:GREGORIAN
METHOD:PUBLISH
BEGIN:VEVENT
UID:69e73891cd5e1
DTSTAMP:20260421T084257Z
DTSTART:20240615T173900Z
DTEND:20240615T173900Z
LOCATION:
SUMMARY:Meeting National Quatrache - Tarare
DESCRIPTION:Meeting National Quatrache - Tarare\nhttps://athletisme-aura.fr
 /events/meeting-national-quatrache-tarare-2
URL:https://athletisme-aura.fr/events/meeting-national-quatrache-tarare-2
END:VEVENT
END:VCALENDAR