BEGIN:VCALENDAR
VERSION:2.0
PRODID:-//eventon.com NONSGML v1.0//EN
CALSCALE:GREGORIAN
METHOD:PUBLISH
BEGIN:VEVENT
UID:69e88d27d538d
DTSTAMP:20260422T085607Z
DTSTART:20240704T174900Z
DTEND:20240704T174900Z
LOCATION:
SUMMARY:Meeting de Bron
DESCRIPTION:Meeting de Bron\nhttps://athletisme-aura.fr/events/meeting-de-b
 ron-4
URL:https://athletisme-aura.fr/events/meeting-de-bron-4
END:VEVENT
END:VCALENDAR