BEGIN:VCALENDAR
VERSION:2.0
PRODID:-//eventon.com NONSGML v1.0//EN
CALSCALE:GREGORIAN
METHOD:PUBLISH
BEGIN:VEVENT
UID:69e8a3ded72ac
DTSTAMP:20260422T103302Z
DTSTART:20250607T184300Z
DTEND:20250607T184300Z
LOCATION:
SUMMARY:Pré-Régionaux 1/2 Fond - Villefranche
DESCRIPTION:Informations complémentaires (Horaires\,  engagements\,  etc
  …)\nhttps://athletisme-aura.fr/events/pre-regionaux-1-2-fond-villefranch
 e
URL:https://athletisme-aura.fr/events/pre-regionaux-1-2-fond-villefranche
END:VEVENT
END:VCALENDAR