BEGIN:VCALENDAR
VERSION:2.0
PRODID:-//eventon.com NONSGML v1.0//EN
CALSCALE:GREGORIAN
METHOD:PUBLISH
BEGIN:VEVENT
UID:69e8a3648fb1b
DTSTAMP:20260422T103100Z
DTSTART:20250927
DTEND:20250928
LOCATION:
SUMMARY:Tour qualificatif Coupe des Spécialités - Clermont-Ferrand
DESCRIPTION:\nhttps://athletisme-aura.fr/events/tour-qualificatif-coupe-des
 -specialites-clermont-ferrand
URL:https://athletisme-aura.fr/events/tour-qualificatif-coupe-des-specialites-clermont-ferrand
END:VEVENT
END:VCALENDAR