BEGIN:VCALENDAR
VERSION:2.0
PRODID:-//eventon.com NONSGML v1.0//EN
CALSCALE:GREGORIAN
METHOD:PUBLISH
BEGIN:VEVENT
UID:69e76e020b959
DTSTAMP:20260421T123058Z
DTSTART:20260125
DTEND:20260126
LOCATION:
SUMMARY:Championnats Alpes de Cross - Passy (74)
DESCRIPTION:\nhttps://athletisme-aura.fr/events/championnats-alpes-de-cross
 -sallanches-74
URL:https://athletisme-aura.fr/events/championnats-alpes-de-cross-sallanches-74
END:VEVENT
END:VCALENDAR