BEGIN:VCALENDAR
VERSION:2.0
PRODID:-//eventon.com NONSGML v1.0//EN
CALSCALE:GREGORIAN
METHOD:PUBLISH
BEGIN:VEVENT
UID:69e738e41ab24
DTSTAMP:20260421T084420Z
DTSTART:20260701
DTEND:20260702
LOCATION:
SUMMARY:Meeting Premium Perche des Alpes - Montbonnot
DESCRIPTION:\nhttps://athletisme-aura.fr/events/meeting-premium-perche-des-
 alpes-montbonnot-circuit
URL:https://athletisme-aura.fr/events/meeting-premium-perche-des-alpes-montbonnot-circuit
END:VEVENT
END:VCALENDAR