BEGIN:VCALENDAR
VERSION:2.0
PRODID:-//eventon.com NONSGML v1.0//EN
CALSCALE:GREGORIAN
METHOD:PUBLISH
BEGIN:VEVENT
UID:69e7387578a39
DTSTAMP:20260421T084229Z
DTSTART:20260620
DTEND:20260621
LOCATION:
SUMMARY:Meeting de Saint-Etienne
DESCRIPTION:Informations complémentaires (horaires\,  épreuves\,  etc &#8
 230;)\nhttps://athletisme-aura.fr/events/meeting-de-saint-etienne-circuit
URL:https://athletisme-aura.fr/events/meeting-de-saint-etienne-circuit
END:VEVENT
END:VCALENDAR